BEGIN:VCALENDAR
VERSION:2.0
PRODID:-//GLORYLAND BAPTIST CHURCH - ECPv6.13.2.1//NONSGML v1.0//EN
CALSCALE:GREGORIAN
METHOD:PUBLISH
X-WR-CALNAME:GLORYLAND BAPTIST CHURCH
X-ORIGINAL-URL:https://www.glorylandbc.org
X-WR-CALDESC:Events for GLORYLAND BAPTIST CHURCH
REFRESH-INTERVAL;VALUE=DURATION:PT1H
X-Robots-Tag:noindex
X-PUBLISHED-TTL:PT1H
BEGIN:VTIMEZONE
TZID:America/Chicago
BEGIN:DAYLIGHT
TZOFFSETFROM:-0600
TZOFFSETTO:-0500
TZNAME:CDT
DTSTART:20230312T080000
END:DAYLIGHT
BEGIN:STANDARD
TZOFFSETFROM:-0500
TZOFFSETTO:-0600
TZNAME:CST
DTSTART:20231105T070000
END:STANDARD
BEGIN:DAYLIGHT
TZOFFSETFROM:-0600
TZOFFSETTO:-0500
TZNAME:CDT
DTSTART:20240310T080000
END:DAYLIGHT
BEGIN:STANDARD
TZOFFSETFROM:-0500
TZOFFSETTO:-0600
TZNAME:CST
DTSTART:20241103T070000
END:STANDARD
END:VTIMEZONE
BEGIN:VEVENT
DTSTART;TZID=America/Chicago:20230904T180000
DTEND;TZID=America/Chicago:20230904T190000
DTSTAMP:20260423T121525
CREATED:20230823T174451Z
LAST-MODIFIED:20230823T174452Z
UID:2159-1693850400-1693854000@www.glorylandbc.org
SUMMARY:Men of Glory 
DESCRIPTION:Prayer/Meeting/Fellowship  \n\n\n\nGlory Center 6745 Greenwell Springs Road Baton Rouge\, Louisiana 70805 
URL:https://www.glorylandbc.org/event/men-of-glory/
ATTACH;FMTTYPE=image/jpeg:https://www.glorylandbc.org/wp-content/uploads/2023/08/rod-long-DRgrzQQsJDA-unsplash-2.jpg
END:VEVENT
BEGIN:VEVENT
DTSTART;TZID=America/Chicago:20230821T120000
DTEND;TZID=America/Chicago:20230821T120000
DTSTAMP:20260423T121525
CREATED:20230823T184933Z
LAST-MODIFIED:20230823T184935Z
UID:2179-1692619200-1692619200@www.glorylandbc.org
SUMMARY:Noon Day Prayer
DESCRIPTION:
URL:https://www.glorylandbc.org/event/noon-day-prayer/
ATTACH;FMTTYPE=image/jpeg:https://www.glorylandbc.org/wp-content/uploads/2023/08/aaron-burden-lPCu8HnGU2E-unsplash-2.jpg
END:VEVENT
BEGIN:VEVENT
DTSTART;TZID=America/Chicago:20230822T180000
DTEND;TZID=America/Chicago:20230822T180000
DTSTAMP:20260423T121525
CREATED:20230823T182612Z
LAST-MODIFIED:20230823T182613Z
UID:2174-1692727200-1692727200@www.glorylandbc.org
SUMMARY:Choir Practice
DESCRIPTION:Glory Center
URL:https://www.glorylandbc.org/event/choir-practice/
END:VEVENT
BEGIN:VEVENT
DTSTART;TZID=America/Chicago:20240717T210000
DTEND;TZID=America/Chicago:20240717T213000
DTSTAMP:20260423T121525
CREATED:20240716T225852Z
LAST-MODIFIED:20240716T225853Z
UID:3386-1721250000-1721251800@www.glorylandbc.org
SUMMARY:Bible Study
DESCRIPTION:
URL:https://www.glorylandbc.org/event/bible-study/
END:VEVENT
BEGIN:VEVENT
DTSTART;TZID=America/Chicago:20230821T120000
DTEND;TZID=America/Chicago:20230821T120000
DTSTAMP:20260423T121525
CREATED:20230823T184933Z
LAST-MODIFIED:20230823T184935Z
UID:2179-1692619200-1692619200@www.glorylandbc.org
SUMMARY:Noon Day Prayer
DESCRIPTION:
URL:https://www.glorylandbc.org/event/noon-day-prayer/
ATTACH;FMTTYPE=image/jpeg:https://www.glorylandbc.org/wp-content/uploads/2023/08/aaron-burden-lPCu8HnGU2E-unsplash-2.jpg
END:VEVENT
BEGIN:VEVENT
DTSTART;TZID=America/Chicago:20230827T084500
DTEND;TZID=America/Chicago:20230827T094500
DTSTAMP:20260423T121525
CREATED:20230824T142728Z
LAST-MODIFIED:20230824T142728Z
UID:2201-1693125900-1693129500@www.glorylandbc.org
SUMMARY:Sunday School
DESCRIPTION:Glory Center  \n\n\n\n6745 Greenwell Springs Road Baton Rouge\, Louisiana 70805 
URL:https://www.glorylandbc.org/event/sunday-school/
END:VEVENT
BEGIN:VEVENT
DTSTART;TZID=America/Chicago:20230903T094500
DTEND;TZID=America/Chicago:20230903T094500
DTSTAMP:20260423T121526
CREATED:20230823T185856Z
LAST-MODIFIED:20230831T022407Z
UID:2187-1693734300-1693734300@www.glorylandbc.org
SUMMARY:Children Church
DESCRIPTION:Children’s Church2575 Michelli Drive Baton Rouge\, Louisiana 70805\n\n\n\nWhen: 1st\, 2nd\, 3rd\, and 5th SundaysTime: 9:45 a.m.**4 -17 years old**
URL:https://www.glorylandbc.org/event/children-church/
ATTACH;FMTTYPE=image/jpeg:https://www.glorylandbc.org/wp-content/uploads/2023/08/kiana-bosman-0pB01U2NDCQ-unsplash.jpg
END:VEVENT
BEGIN:VEVENT
DTSTART;TZID=America/Chicago:20230827T094500
DTEND;TZID=America/Chicago:20230827T094500
DTSTAMP:20260423T121526
CREATED:20230823T180106Z
LAST-MODIFIED:20230823T181249Z
UID:2167-1693129500-1693129500@www.glorylandbc.org
SUMMARY:Worship Service
DESCRIPTION:Glory Center 6745 Greenwell Springs Road Baton Rouge\, Louisiana 70805 
URL:https://www.glorylandbc.org/event/worship-service/
ATTACH;FMTTYPE=image/jpeg:https://www.glorylandbc.org/wp-content/uploads/2023/07/gloryland-scaled.jpg
END:VEVENT
BEGIN:VEVENT
DTSTART;TZID=America/Chicago:20230821T120000
DTEND;TZID=America/Chicago:20230821T120000
DTSTAMP:20260423T121526
CREATED:20230823T184933Z
LAST-MODIFIED:20230823T184935Z
UID:2179-1692619200-1692619200@www.glorylandbc.org
SUMMARY:Noon Day Prayer
DESCRIPTION:
URL:https://www.glorylandbc.org/event/noon-day-prayer/
ATTACH;FMTTYPE=image/jpeg:https://www.glorylandbc.org/wp-content/uploads/2023/08/aaron-burden-lPCu8HnGU2E-unsplash-2.jpg
END:VEVENT
BEGIN:VEVENT
DTSTART;TZID=America/Chicago:20230822T180000
DTEND;TZID=America/Chicago:20230822T180000
DTSTAMP:20260423T121526
CREATED:20230823T182612Z
LAST-MODIFIED:20230823T182613Z
UID:2174-1692727200-1692727200@www.glorylandbc.org
SUMMARY:Choir Practice
DESCRIPTION:Glory Center
URL:https://www.glorylandbc.org/event/choir-practice/
END:VEVENT
BEGIN:VEVENT
DTSTART;TZID=America/Chicago:20240717T210000
DTEND;TZID=America/Chicago:20240717T213000
DTSTAMP:20260423T121526
CREATED:20240716T225852Z
LAST-MODIFIED:20240716T225853Z
UID:3386-1721250000-1721251800@www.glorylandbc.org
SUMMARY:Bible Study
DESCRIPTION:
URL:https://www.glorylandbc.org/event/bible-study/
END:VEVENT
BEGIN:VEVENT
DTSTART;TZID=America/Chicago:20230821T120000
DTEND;TZID=America/Chicago:20230821T120000
DTSTAMP:20260423T121526
CREATED:20230823T184933Z
LAST-MODIFIED:20230823T184935Z
UID:2179-1692619200-1692619200@www.glorylandbc.org
SUMMARY:Noon Day Prayer
DESCRIPTION:
URL:https://www.glorylandbc.org/event/noon-day-prayer/
ATTACH;FMTTYPE=image/jpeg:https://www.glorylandbc.org/wp-content/uploads/2023/08/aaron-burden-lPCu8HnGU2E-unsplash-2.jpg
END:VEVENT
BEGIN:VEVENT
DTSTART;TZID=America/Chicago:20230827T084500
DTEND;TZID=America/Chicago:20230827T094500
DTSTAMP:20260423T121526
CREATED:20230824T142728Z
LAST-MODIFIED:20230824T142728Z
UID:2201-1693125900-1693129500@www.glorylandbc.org
SUMMARY:Sunday School
DESCRIPTION:Glory Center  \n\n\n\n6745 Greenwell Springs Road Baton Rouge\, Louisiana 70805 
URL:https://www.glorylandbc.org/event/sunday-school/
END:VEVENT
BEGIN:VEVENT
DTSTART;TZID=America/Chicago:20230910T094500
DTEND;TZID=America/Chicago:20230910T094500
DTSTAMP:20260423T121526
CREATED:20230823T190018Z
LAST-MODIFIED:20230831T014314Z
UID:2191-1694339100-1694339100@www.glorylandbc.org
SUMMARY:Children Church
DESCRIPTION:Children’s Church2575 Michelli Drive Baton Rouge\, Louisiana 70805\n\n\n\nWhen: 1st\, 2nd\, 3rd\, and 5th SundaysTime: 9:45 a.m.**4 -17 years old**
URL:https://www.glorylandbc.org/event/children-church-2/
ATTACH;FMTTYPE=image/jpeg:https://www.glorylandbc.org/wp-content/uploads/2023/08/kiana-bosman-0pB01U2NDCQ-unsplash.jpg
END:VEVENT
BEGIN:VEVENT
DTSTART;TZID=America/Chicago:20230827T094500
DTEND;TZID=America/Chicago:20230827T094500
DTSTAMP:20260423T121526
CREATED:20230823T180106Z
LAST-MODIFIED:20230823T181249Z
UID:2167-1693129500-1693129500@www.glorylandbc.org
SUMMARY:Worship Service
DESCRIPTION:Glory Center 6745 Greenwell Springs Road Baton Rouge\, Louisiana 70805 
URL:https://www.glorylandbc.org/event/worship-service/
ATTACH;FMTTYPE=image/jpeg:https://www.glorylandbc.org/wp-content/uploads/2023/07/gloryland-scaled.jpg
END:VEVENT
BEGIN:VEVENT
DTSTART;TZID=America/Chicago:20230821T120000
DTEND;TZID=America/Chicago:20230821T120000
DTSTAMP:20260423T121526
CREATED:20230823T184933Z
LAST-MODIFIED:20230823T184935Z
UID:2179-1692619200-1692619200@www.glorylandbc.org
SUMMARY:Noon Day Prayer
DESCRIPTION:
URL:https://www.glorylandbc.org/event/noon-day-prayer/
ATTACH;FMTTYPE=image/jpeg:https://www.glorylandbc.org/wp-content/uploads/2023/08/aaron-burden-lPCu8HnGU2E-unsplash-2.jpg
END:VEVENT
BEGIN:VEVENT
DTSTART;TZID=America/Chicago:20230822T180000
DTEND;TZID=America/Chicago:20230822T180000
DTSTAMP:20260423T121526
CREATED:20230823T182612Z
LAST-MODIFIED:20230823T182613Z
UID:2174-1692727200-1692727200@www.glorylandbc.org
SUMMARY:Choir Practice
DESCRIPTION:Glory Center
URL:https://www.glorylandbc.org/event/choir-practice/
END:VEVENT
BEGIN:VEVENT
DTSTART;TZID=America/Chicago:20240717T210000
DTEND;TZID=America/Chicago:20240717T213000
DTSTAMP:20260423T121526
CREATED:20240716T225852Z
LAST-MODIFIED:20240716T225853Z
UID:3386-1721250000-1721251800@www.glorylandbc.org
SUMMARY:Bible Study
DESCRIPTION:
URL:https://www.glorylandbc.org/event/bible-study/
END:VEVENT
BEGIN:VEVENT
DTSTART;TZID=America/Chicago:20230821T120000
DTEND;TZID=America/Chicago:20230821T120000
DTSTAMP:20260423T121526
CREATED:20230823T184933Z
LAST-MODIFIED:20230823T184935Z
UID:2179-1692619200-1692619200@www.glorylandbc.org
SUMMARY:Noon Day Prayer
DESCRIPTION:
URL:https://www.glorylandbc.org/event/noon-day-prayer/
ATTACH;FMTTYPE=image/jpeg:https://www.glorylandbc.org/wp-content/uploads/2023/08/aaron-burden-lPCu8HnGU2E-unsplash-2.jpg
END:VEVENT
BEGIN:VEVENT
DTSTART;TZID=America/Chicago:20230827T084500
DTEND;TZID=America/Chicago:20230827T094500
DTSTAMP:20260423T121526
CREATED:20230824T142728Z
LAST-MODIFIED:20230824T142728Z
UID:2201-1693125900-1693129500@www.glorylandbc.org
SUMMARY:Sunday School
DESCRIPTION:Glory Center  \n\n\n\n6745 Greenwell Springs Road Baton Rouge\, Louisiana 70805 
URL:https://www.glorylandbc.org/event/sunday-school/
END:VEVENT
BEGIN:VEVENT
DTSTART;TZID=America/Chicago:20230917T094500
DTEND;TZID=America/Chicago:20230917T094500
DTSTAMP:20260423T121526
CREATED:20230823T190154Z
LAST-MODIFIED:20230831T014218Z
UID:2195-1694943900-1694943900@www.glorylandbc.org
SUMMARY:Children Church
DESCRIPTION:Children’s Church2575 Michelli Drive Baton Rouge\, Louisiana 70805 \n\n\n\nWhen: 1st\, 2nd\, 3rd\, and 5th SundaysTime: 9:45 a.m.**4 -17 years old**
URL:https://www.glorylandbc.org/event/children-church-2-2/
ATTACH;FMTTYPE=image/jpeg:https://www.glorylandbc.org/wp-content/uploads/2023/08/kiana-bosman-0pB01U2NDCQ-unsplash.jpg
END:VEVENT
BEGIN:VEVENT
DTSTART;TZID=America/Chicago:20230827T094500
DTEND;TZID=America/Chicago:20230827T094500
DTSTAMP:20260423T121526
CREATED:20230823T180106Z
LAST-MODIFIED:20230823T181249Z
UID:2167-1693129500-1693129500@www.glorylandbc.org
SUMMARY:Worship Service
DESCRIPTION:Glory Center 6745 Greenwell Springs Road Baton Rouge\, Louisiana 70805 
URL:https://www.glorylandbc.org/event/worship-service/
ATTACH;FMTTYPE=image/jpeg:https://www.glorylandbc.org/wp-content/uploads/2023/07/gloryland-scaled.jpg
END:VEVENT
BEGIN:VEVENT
DTSTART;TZID=America/Chicago:20230821T120000
DTEND;TZID=America/Chicago:20230821T120000
DTSTAMP:20260423T121526
CREATED:20230823T184933Z
LAST-MODIFIED:20230823T184935Z
UID:2179-1692619200-1692619200@www.glorylandbc.org
SUMMARY:Noon Day Prayer
DESCRIPTION:
URL:https://www.glorylandbc.org/event/noon-day-prayer/
ATTACH;FMTTYPE=image/jpeg:https://www.glorylandbc.org/wp-content/uploads/2023/08/aaron-burden-lPCu8HnGU2E-unsplash-2.jpg
END:VEVENT
BEGIN:VEVENT
DTSTART;TZID=America/Chicago:20230822T180000
DTEND;TZID=America/Chicago:20230822T180000
DTSTAMP:20260423T121526
CREATED:20230823T182612Z
LAST-MODIFIED:20230823T182613Z
UID:2174-1692727200-1692727200@www.glorylandbc.org
SUMMARY:Choir Practice
DESCRIPTION:Glory Center
URL:https://www.glorylandbc.org/event/choir-practice/
END:VEVENT
BEGIN:VEVENT
DTSTART;TZID=America/Chicago:20240717T210000
DTEND;TZID=America/Chicago:20240717T213000
DTSTAMP:20260423T121526
CREATED:20240716T225852Z
LAST-MODIFIED:20240716T225853Z
UID:3386-1721250000-1721251800@www.glorylandbc.org
SUMMARY:Bible Study
DESCRIPTION:
URL:https://www.glorylandbc.org/event/bible-study/
END:VEVENT
BEGIN:VEVENT
DTSTART;TZID=America/Chicago:20230821T120000
DTEND;TZID=America/Chicago:20230821T120000
DTSTAMP:20260423T121526
CREATED:20230823T184933Z
LAST-MODIFIED:20230823T184935Z
UID:2179-1692619200-1692619200@www.glorylandbc.org
SUMMARY:Noon Day Prayer
DESCRIPTION:
URL:https://www.glorylandbc.org/event/noon-day-prayer/
ATTACH;FMTTYPE=image/jpeg:https://www.glorylandbc.org/wp-content/uploads/2023/08/aaron-burden-lPCu8HnGU2E-unsplash-2.jpg
END:VEVENT
BEGIN:VEVENT
DTSTART;TZID=America/Chicago:20230827T084500
DTEND;TZID=America/Chicago:20230827T094500
DTSTAMP:20260423T121526
CREATED:20230824T142728Z
LAST-MODIFIED:20230824T142728Z
UID:2201-1693125900-1693129500@www.glorylandbc.org
SUMMARY:Sunday School
DESCRIPTION:Glory Center  \n\n\n\n6745 Greenwell Springs Road Baton Rouge\, Louisiana 70805 
URL:https://www.glorylandbc.org/event/sunday-school/
END:VEVENT
BEGIN:VEVENT
DTSTART;TZID=America/Chicago:20230827T094500
DTEND;TZID=America/Chicago:20230827T094500
DTSTAMP:20260423T121526
CREATED:20230823T185311Z
LAST-MODIFIED:20230823T185312Z
UID:2183-1693129500-1693129500@www.glorylandbc.org
SUMMARY:Communion Sunday
DESCRIPTION:Glory Center  \n\n\n\n6745 Greenwell Springs Road Baton Rouge\, Louisiana 70805 
URL:https://www.glorylandbc.org/event/communion-sunday/
ATTACH;FMTTYPE=image/jpeg:https://www.glorylandbc.org/wp-content/uploads/2023/08/james-coleman-_HzRfyw7BuA-unsplash.jpg
END:VEVENT
BEGIN:VEVENT
DTSTART;TZID=America/Chicago:20230827T094500
DTEND;TZID=America/Chicago:20230827T094500
DTSTAMP:20260423T121526
CREATED:20230823T180106Z
LAST-MODIFIED:20230823T181249Z
UID:2167-1693129500-1693129500@www.glorylandbc.org
SUMMARY:Worship Service
DESCRIPTION:Glory Center 6745 Greenwell Springs Road Baton Rouge\, Louisiana 70805 
URL:https://www.glorylandbc.org/event/worship-service/
ATTACH;FMTTYPE=image/jpeg:https://www.glorylandbc.org/wp-content/uploads/2023/07/gloryland-scaled.jpg
END:VEVENT
BEGIN:VEVENT
DTSTART;TZID=America/Chicago:20230821T120000
DTEND;TZID=America/Chicago:20230821T120000
DTSTAMP:20260423T121526
CREATED:20230823T184933Z
LAST-MODIFIED:20230823T184935Z
UID:2179-1692619200-1692619200@www.glorylandbc.org
SUMMARY:Noon Day Prayer
DESCRIPTION:
URL:https://www.glorylandbc.org/event/noon-day-prayer/
ATTACH;FMTTYPE=image/jpeg:https://www.glorylandbc.org/wp-content/uploads/2023/08/aaron-burden-lPCu8HnGU2E-unsplash-2.jpg
END:VEVENT
END:VCALENDAR